BEGIN:VCALENDAR
VERSION:2.0
PRODID:-//Tukios.com/
BEGIN:VEVENT
UID:2841bfc9-eb44-4ced-a230-589202600048@www.guareandsons.com
DTSTAMP:20260420T031311Z
DTSTART:20260522T170000Z
DTEND:20260522T180000Z
SUMMARY:Graveside Service
DESCRIPTION:
URL:https://www.guareandsons.com/obituaries/lee-beavin
LOCATION:     
GEO:0;0
END:VEVENT
END:VCALENDAR